BEGIN:VCALENDAR
VERSION:2.0
PRODID:-//WEBSITE RESMI MUNAS SWI 2026 - ECPv6.15.13//NONSGML v1.0//EN
CALSCALE:GREGORIAN
METHOD:PUBLISH
X-WR-CALNAME:WEBSITE RESMI MUNAS SWI 2026
X-ORIGINAL-URL:https://www.munas-swi.com
X-WR-CALDESC:Events for WEBSITE RESMI MUNAS SWI 2026
REFRESH-INTERVAL;VALUE=DURATION:PT1H
X-Robots-Tag:noindex
X-PUBLISHED-TTL:PT1H
BEGIN:VTIMEZONE
TZID:Asia/Jakarta
BEGIN:STANDARD
TZOFFSETFROM:+0700
TZOFFSETTO:+0700
TZNAME:WIB
DTSTART:20250101T000000
END:STANDARD
END:VTIMEZONE
BEGIN:VEVENT
DTSTART;TZID=Asia/Jakarta:20260519T080000
DTEND;TZID=Asia/Jakarta:20260519T100000
DTSTAMP:20260422T161217
CREATED:20251103T172043Z
LAST-MODIFIED:20260101T151004Z
UID:726-1779177600-1779184800@www.munas-swi.com
SUMMARY:Bersih - bersih Desa
DESCRIPTION:  \n  \nTema “Gotong Royong Hari Ini\, Warisan Lingkungan Bersih untuk Generasi Nanti”\nTujuan:\n1. Menumbuhkan kesadaran kolektif masyarakat tentang pentingnya kebersihan dan kelestarian lingkungan.\n2. Menguatkan kembali nilai luhur gotong royong sebagai identitas budaya bangsa.
URL:https://www.munas-swi.com/event/bersih-bersih-desa/
LOCATION:Desa Banyuanyar\, Desa Banyuanyar\, Kecamatan\, Ampel\, Kabupaten Boyolali\, Jawa Tengah\, Boyolali\, Jawa Tengah\, 57352\, Indonesia
CATEGORIES:Bersih Desa
ATTACH;FMTTYPE=image/gif:https://www.munas-swi.com/wp-content/uploads/2025/11/BERSIH-DESA.gif
END:VEVENT
BEGIN:VEVENT
DTSTART;TZID=Asia/Jakarta:20260519T100000
DTEND;TZID=Asia/Jakarta:20260519T130000
DTSTAMP:20260422T161217
CREATED:20251103T172430Z
LAST-MODIFIED:20260101T154038Z
UID:731-1779184800-1779195600@www.munas-swi.com
SUMMARY:Penanaman Pohon
DESCRIPTION:  \nPenanaman pohon keras dan produktif\nSimbol investasi lingkungan jangka panjang. Dilakukan oleh\npejabat\, tokoh masyarakat\, dan perwakilan peserta.
URL:https://www.munas-swi.com/event/penanaman-pohon/
LOCATION:Desa Banyuanyar\, Desa Banyuanyar\, Kecamatan\, Ampel\, Kabupaten Boyolali\, Jawa Tengah\, Boyolali\, Jawa Tengah\, 57352\, Indonesia
CATEGORIES:Penanaman Pohon
ATTACH;FMTTYPE=image/gif:https://www.munas-swi.com/wp-content/uploads/2025/11/PENANAMAN-POHON.gif
END:VEVENT
BEGIN:VEVENT
DTSTART;TZID=Asia/Jakarta:20260519T130000
DTEND;TZID=Asia/Jakarta:20260519T150000
DTSTAMP:20260422T161217
CREATED:20251103T172503Z
LAST-MODIFIED:20260101T154104Z
UID:735-1779195600-1779202800@www.munas-swi.com
SUMMARY:Penanaman Bunga Matahari
DESCRIPTION:  \nSimbol optimisme\, energi positif\, dan Desa yang ramah lingkun\ngan. Dilakukan melibatkan pelajar dan santri sebagai generasi penerus
URL:https://www.munas-swi.com/event/penanaman-bunga-matahari/
LOCATION:Desa Banyuanyar\, Desa Banyuanyar\, Kecamatan\, Ampel\, Kabupaten Boyolali\, Jawa Tengah\, Boyolali\, Jawa Tengah\, 57352\, Indonesia
CATEGORIES:Penanaman Bunga Matahari
ATTACH;FMTTYPE=image/gif:https://www.munas-swi.com/wp-content/uploads/2025/11/PENANAMAN-BUNGA-MATAHARI.gif
END:VEVENT
BEGIN:VEVENT
DTSTART;TZID=Asia/Jakarta:20260519T150000
DTEND;TZID=Asia/Jakarta:20260519T170000
DTSTAMP:20260422T161217
CREATED:20251103T172413Z
LAST-MODIFIED:20260101T154138Z
UID:729-1779202800-1779210000@www.munas-swi.com
SUMMARY:Deklarasi Desa Bersih
DESCRIPTION:  \n  \nPembacaan naskah Deklarasi Desa Bersih & Penandatanganan\nPrasasti oleh pejabat dan perwakilan masyarakat.\nPeneguhankomitmen tertulis Desa Bersih dan Lestari
URL:https://www.munas-swi.com/event/deklarasi-desa-bersih/
LOCATION:Desa Banyuanyar\, Desa Banyuanyar\, Kecamatan\, Ampel\, Kabupaten Boyolali\, Jawa Tengah\, Boyolali\, Jawa Tengah\, 57352\, Indonesia
CATEGORIES:Deklarasi Desa Bersih
ATTACH;FMTTYPE=image/gif:https://www.munas-swi.com/wp-content/uploads/2025/11/DEKLARASI-DESA-BERSIH.gif
END:VEVENT
BEGIN:VEVENT
DTSTART;TZID=Asia/Jakarta:20260519T160000
DTEND;TZID=Asia/Jakarta:20260519T170000
DTSTAMP:20260422T161217
CREATED:20251103T172446Z
LAST-MODIFIED:20260101T151956Z
UID:733-1779206400-1779210000@www.munas-swi.com
SUMMARY:Bimtek Pemberdayaan Komoditas Tanaman
DESCRIPTION:  \nBimbingan Teknis kegiatan pelatihan praktis untuk meningkatkan pengetahuan terkait tanaman (VANILI\, JAGUNG\, PISANG DAN SINGKONG)
URL:https://www.munas-swi.com/event/bimtek-pemberdayaan-komoditas-tanaman/
LOCATION:Desa Banyuanyar\, Desa Banyuanyar\, Kecamatan\, Ampel\, Kabupaten Boyolali\, Jawa Tengah\, Boyolali\, Jawa Tengah\, 57352\, Indonesia
CATEGORIES:Bimtek
ATTACH;FMTTYPE=image/gif:https://www.munas-swi.com/wp-content/uploads/2025/11/BIMTEK.gif
END:VEVENT
BEGIN:VEVENT
DTSTART;TZID=Asia/Jakarta:20260520T080000
DTEND;TZID=Asia/Jakarta:20260520T100000
DTSTAMP:20260422T161217
CREATED:20251103T171745Z
LAST-MODIFIED:20260101T152354Z
UID:721-1779264000-1779271200@www.munas-swi.com
SUMMARY:Bentang 1000 Meter Bendera Merah Putih
DESCRIPTION:  \nPembentangan bendara merah putih dengan panjang 1000 meter \n 
URL:https://www.munas-swi.com/event/bentang-1000-meter-bendera-merah-putih/
LOCATION:Desa Banyuanyar\, Desa Banyuanyar\, Kecamatan\, Ampel\, Kabupaten Boyolali\, Jawa Tengah\, Boyolali\, Jawa Tengah\, 57352\, Indonesia
CATEGORIES:Bentang Bendera Merah Putih
ATTACH;FMTTYPE=image/gif:https://www.munas-swi.com/wp-content/uploads/2025/11/BENTANG-1000-METER-BENDERA-MERAH-PUTIH.gif
END:VEVENT
BEGIN:VEVENT
DTSTART;TZID=Asia/Jakarta:20260520T100000
DTEND;TZID=Asia/Jakarta:20260520T230000
DTSTAMP:20260422T161217
CREATED:20251103T172521Z
LAST-MODIFIED:20260101T153024Z
UID:737-1779271200-1779318000@www.munas-swi.com
SUMMARY:Penganugerahan SWI Award
DESCRIPTION:
URL:https://www.munas-swi.com/event/penganugerahan-swi-award/
LOCATION:Desa Banyuanyar\, Desa Banyuanyar\, Kecamatan\, Ampel\, Kabupaten Boyolali\, Jawa Tengah\, Boyolali\, Jawa Tengah\, 57352\, Indonesia
CATEGORIES:SWI Award
ATTACH;FMTTYPE=image/gif:https://www.munas-swi.com/wp-content/uploads/2025/11/SWI-AWARDS.gif
END:VEVENT
BEGIN:VEVENT
DTSTART;TZID=Asia/Jakarta:20260520T160000
DTEND;TZID=Asia/Jakarta:20260520T170000
DTSTAMP:20260422T161217
CREATED:20260101T153334Z
LAST-MODIFIED:20260101T153334Z
UID:977-1779292800-1779296400@www.munas-swi.com
SUMMARY:Penandatanganan MoU SWI Dengan Stake Holder
DESCRIPTION:    Penandatanganan MOU SWI Dengan Stake Holder
URL:https://www.munas-swi.com/event/penandatanganan-mou-swi-dengan-stake-holder/
LOCATION:Desa Banyuanyar\, Desa Banyuanyar\, Kecamatan\, Ampel\, Kabupaten Boyolali\, Jawa Tengah\, Boyolali\, Jawa Tengah\, 57352\, Indonesia
CATEGORIES:MoU
ATTACH;FMTTYPE=image/png:https://www.munas-swi.com/wp-content/uploads/2025/11/logo-munas-e1762180907831.png
END:VEVENT
BEGIN:VEVENT
DTSTART;TZID=Asia/Jakarta:20260520T170000
DTEND;TZID=Asia/Jakarta:20260520T190000
DTSTAMP:20260422T161217
CREATED:20260101T153919Z
LAST-MODIFIED:20260101T153919Z
UID:979-1779296400-1779303600@www.munas-swi.com
SUMMARY:Talkshow “Peran Pers Dalam Pembangunan Daerah”
DESCRIPTION:Acara Talkshow dengan tema “Peran Pers Dalam Pembangunan Daerah”
URL:https://www.munas-swi.com/event/talkshow-peran-pers-dalam-pembangunan-daerah/
LOCATION:Desa Banyuanyar\, Desa Banyuanyar\, Kecamatan\, Ampel\, Kabupaten Boyolali\, Jawa Tengah\, Boyolali\, Jawa Tengah\, 57352\, Indonesia
CATEGORIES:Talkshow
ATTACH;FMTTYPE=image/gif:https://www.munas-swi.com/wp-content/uploads/2026/01/TALKSHOW.gif
END:VEVENT
BEGIN:VEVENT
DTSTART;TZID=Asia/Jakarta:20260520T200000
DTEND;TZID=Asia/Jakarta:20260520T233000
DTSTAMP:20260422T161217
CREATED:20260101T154347Z
LAST-MODIFIED:20260101T154347Z
UID:982-1779307200-1779319800@www.munas-swi.com
SUMMARY:PELAKSANAAN MUSAYAWARAH NASIONAL (MUNAS)
DESCRIPTION:Seluruh peserta Delegasi dari berbagai daerah di Indonesia bersiap melakukan Munas SWI Tahun 2026
URL:https://www.munas-swi.com/event/pelaksanaan-musayawarah-nasional-munas/
LOCATION:Desa Banyuanyar\, Desa Banyuanyar\, Kecamatan\, Ampel\, Kabupaten Boyolali\, Jawa Tengah\, Boyolali\, Jawa Tengah\, 57352\, Indonesia
CATEGORIES:Munas SWI 2026
ATTACH;FMTTYPE=image/png:https://www.munas-swi.com/wp-content/uploads/2025/11/logo-munas-e1762180907831.png
END:VEVENT
END:VCALENDAR